BEGIN:VCALENDAR
VERSION:2.0
PRODID:SchoolNow
CALSCALE:GREGORIAN
BEGIN:VEVENT
UID:02c1eaa4-4bd3-11f0-94e5-0a58a9feac02
DTSTAMP:20260425T144513Z
SUMMARY:New Date!   Bike Rodeo
LOCATION:Playground
URL;VALUE=URI:https://www.tusd.org/schools/arlington/calendar/8320570/new-d
 ate-bike-rodeo
DTSTART:20260312T160000Z
DTEND:20260312T173000Z
END:VEVENT
END:VCALENDAR
