BEGIN:VCALENDAR
VERSION:2.0
PRODID:SchoolNow
CALSCALE:GREGORIAN
BEGIN:VEVENT
UID:02c1e9c8-4bd3-11f0-bc94-0a58a9feac02
DTSTAMP:20260425T144513Z
SUMMARY:Talent Show
LOCATION:Cafeteria
URL;VALUE=URI:https://www.tusd.org/schools/arlington/calendar/8320569/talen
 t-show
DTSTART:20260424T010000Z
DTEND:20260424T023000Z
END:VEVENT
END:VCALENDAR
