BEGIN:VCALENDAR
VERSION:2.0
PRODID:SchoolNow
CALSCALE:GREGORIAN
BEGIN:VEVENT
UID:02c1e810-4bd3-11f0-b184-0a58a9feac02
DTSTAMP:20260425T144513Z
SUMMARY:Volunteer Assembly & Tea
LOCATION:Playground/Cafeteria
URL;VALUE=URI:https://www.tusd.org/schools/arlington/calendar/8320567/volun
 teer-assembly-tea
DTSTART:20260420T155000Z
DTEND:20260420T173000Z
END:VEVENT
END:VCALENDAR
