BEGIN:VCALENDAR
VERSION:2.0
PRODID:SchoolNow
CALSCALE:GREGORIAN
BEGIN:VEVENT
UID:02c1e734-4bd3-11f0-9e4e-0a58a9feac02
DTSTAMP:20260425T144513Z
SUMMARY:Environmental Week
URL;VALUE=URI:https://www.tusd.org/schools/arlington/calendar/8320566/envir
 onmental-week
DTSTART;VALUE=DATE:20260420
DTEND;VALUE=DATE:20260425
END:VEVENT
END:VCALENDAR
