BEGIN:VCALENDAR
VERSION:2.0
PRODID:SchoolNow
CALSCALE:GREGORIAN
BEGIN:VEVENT
UID:02c1e57c-4bd3-11f0-a793-0a58a9feac02
DTSTAMP:20260425T144513Z
SUMMARY:Spring Book Fair
URL;VALUE=URI:https://www.tusd.org/schools/arlington/calendar/8320564/sprin
 g-book-fair
DTSTART;VALUE=DATE:20260413
DTEND;VALUE=DATE:20260418
END:VEVENT
END:VCALENDAR
