BEGIN:VCALENDAR
VERSION:2.0
PRODID:SchoolNow
CALSCALE:GREGORIAN
BEGIN:VEVENT
UID:02c1e4a0-4bd3-11f0-93f2-0a58a9feac02
DTSTAMP:20260425T144513Z
SUMMARY:PTA Board Meeting
URL;VALUE=URI:https://www.tusd.org/schools/arlington/calendar/8320563/pta-b
 oard-meeting
DTSTART:20260409T223000Z
DTEND:20260410T000000Z
END:VEVENT
END:VCALENDAR
