BEGIN:VCALENDAR
VERSION:2.0
PRODID:SchoolNow
CALSCALE:GREGORIAN
BEGIN:VEVENT
UID:02c1e3c4-4bd3-11f0-b0d2-0a58a9feac02
DTSTAMP:20260425T144513Z
SUMMARY:No School - Spring Break
URL;VALUE=URI:https://www.tusd.org/schools/arlington/calendar/8320562/no-sc
 hool-spring-break
DTSTART;VALUE=DATE:20260330
DTEND;VALUE=DATE:20260404
END:VEVENT
END:VCALENDAR
