BEGIN:VCALENDAR
VERSION:2.0
PRODID:SchoolNow
CALSCALE:GREGORIAN
BEGIN:VEVENT
UID:02c1e2e8-4bd3-11f0-9f8a-0a58a9feac02
DTSTAMP:20260425T144513Z
SUMMARY:1 hr early out- 1st-5th At Risk Parent Conferences
URL;VALUE=URI:https://www.tusd.org/schools/arlington/calendar/8320561/1-hr-
 early-out-1st-5th-at-risk-parent-conferences
DTSTART;VALUE=DATE:20260325
DTEND;VALUE=DATE:20260328
END:VEVENT
END:VCALENDAR
