BEGIN:VCALENDAR
VERSION:2.0
PRODID:SchoolNow
CALSCALE:GREGORIAN
BEGIN:VEVENT
UID:02c1e202-4bd3-11f0-ac98-0a58a9feac02
DTSTAMP:20260425T144513Z
SUMMARY:Family CAASPP Night 3rd-5th grade
LOCATION:Cafeteria
URL;VALUE=URI:https://www.tusd.org/schools/arlington/calendar/8320560/famil
 y-caaspp-night-3rd-5th-grade
DTSTART:20260227T020000Z
DTEND:20260227T033000Z
END:VEVENT
END:VCALENDAR
