BEGIN:VCALENDAR
VERSION:2.0
PRODID:SchoolNow
CALSCALE:GREGORIAN
BEGIN:VEVENT
UID:02c1e126-4bd3-11f0-b87d-0a58a9feac02
DTSTAMP:20260425T144513Z
SUMMARY:SSC
LOCATION:Zoom
URL;VALUE=URI:https://www.tusd.org/schools/arlington/calendar/8320559/ssc
DTSTART:20260323T223000Z
DTEND:20260323T233000Z
END:VEVENT
END:VCALENDAR
