BEGIN:VCALENDAR
VERSION:2.0
PRODID:SchoolNow
CALSCALE:GREGORIAN
BEGIN:VEVENT
UID:02c1e040-4bd3-11f0-83b0-0a58a9feac02
DTSTAMP:20260425T144513Z
SUMMARY:Math Field Day
URL;VALUE=URI:https://www.tusd.org/schools/arlington/calendar/8320558/math-
 field-day
DTSTART;VALUE=DATE:20260321
DTEND;VALUE=DATE:20260322
END:VEVENT
END:VCALENDAR
