BEGIN:VCALENDAR
VERSION:2.0
PRODID:SchoolNow
CALSCALE:GREGORIAN
BEGIN:VEVENT
UID:02c1dee2-4bd3-11f0-9739-0a58a9feac02
DTSTAMP:20260425T144513Z
SUMMARY:Talent Show Try-Outs Moved to 4/10
LOCATION:Cafeteria
URL;VALUE=URI:https://www.tusd.org/schools/arlington/calendar/8320557/talen
 t-show-try-outs-moved-to-4-10
DTSTART;VALUE=DATE:20260319
DTEND;VALUE=DATE:20260320
END:VEVENT
END:VCALENDAR
