BEGIN:VCALENDAR
VERSION:2.0
PRODID:SchoolNow
CALSCALE:GREGORIAN
BEGIN:VEVENT
UID:02c1de06-4bd3-11f0-8686-0a58a9feac02
DTSTAMP:20260425T144513Z
SUMMARY:Reflections Night
LOCATION:Cafeteria
URL;VALUE=URI:https://www.tusd.org/schools/arlington/calendar/8320556/refle
 ctions-night
DTSTART:20260313T010000Z
DTEND:20260313T023000Z
END:VEVENT
END:VCALENDAR
