BEGIN:VCALENDAR
VERSION:2.0
PRODID:SchoolNow
CALSCALE:GREGORIAN
BEGIN:VEVENT
UID:02c1dc4e-4bd3-11f0-8f72-0a58a9feac02
DTSTAMP:20260425T144513Z
SUMMARY:Reading Incentive Week Multicultural Parade
LOCATION:Playground
URL;VALUE=URI:https://www.tusd.org/schools/arlington/calendar/8320554/readi
 ng-incentive-week-multicultural-parade
DTSTART:20260302T165000Z
DTEND:20260302T172000Z
END:VEVENT
END:VCALENDAR
