BEGIN:VCALENDAR
VERSION:2.0
PRODID:SchoolNow
CALSCALE:GREGORIAN
BEGIN:VEVENT
UID:02c1db72-4bd3-11f0-91e9-0a58a9feac02
DTSTAMP:20260425T144513Z
SUMMARY:Reading Incentive Week
URL;VALUE=URI:https://www.tusd.org/schools/arlington/calendar/8320553/readi
 ng-incentive-week
DTSTART;VALUE=DATE:20260302
DTEND;VALUE=DATE:20260307
END:VEVENT
END:VCALENDAR
