BEGIN:VCALENDAR
VERSION:2.0
PRODID:SchoolNow
CALSCALE:GREGORIAN
BEGIN:VEVENT
UID:02c1d9a6-4bd3-11f0-b559-0a58a9feac02
DTSTAMP:20260425T144513Z
SUMMARY:PTA Association & H.S.A. Awards
LOCATION:Cafeteria
URL;VALUE=URI:https://www.tusd.org/schools/arlington/calendar/8320551/pta-a
 ssociation-h-s-a-awards
DTSTART:20260220T020000Z
DTEND:20260220T033000Z
END:VEVENT
END:VCALENDAR
