BEGIN:VCALENDAR
VERSION:2.0
PRODID:SchoolNow
CALSCALE:GREGORIAN
BEGIN:VEVENT
UID:02c1d6fe-4bd3-11f0-abf2-0a58a9feac02
DTSTAMP:20260425T144513Z
SUMMARY:Family STEAM Night & Science Fair
LOCATION:Cafeteria
URL;VALUE=URI:https://www.tusd.org/schools/arlington/calendar/8320548/famil
 y-steam-night-science-fair
DTSTART:20260213T020000Z
DTEND:20260213T033000Z
END:VEVENT
END:VCALENDAR
