BEGIN:VCALENDAR
VERSION:2.0
PRODID:SchoolNow
CALSCALE:GREGORIAN
BEGIN:VEVENT
UID:02c1d514-4bd3-11f0-9ffe-0a58a9feac02
DTSTAMP:20260425T144513Z
SUMMARY:SSC
LOCATION:Zoom
URL;VALUE=URI:https://www.tusd.org/schools/arlington/calendar/8320546/ssc
DTSTART:20260202T233000Z
DTEND:20260203T003000Z
END:VEVENT
END:VCALENDAR
