BEGIN:VCALENDAR
VERSION:2.0
PRODID:SchoolNow
CALSCALE:GREGORIAN
BEGIN:VEVENT
UID:02c1d406-4bd3-11f0-8677-0a58a9feac02
DTSTAMP:20260425T205012Z
SUMMARY:Regular Dismissal
URL;VALUE=URI:https://www.tusd.org/schools/arlington/calendar/8320545/regul
 ar-dismissal
DTSTART;VALUE=DATE:20260130
DTEND;VALUE=DATE:20260131
END:VEVENT
END:VCALENDAR
