BEGIN:VCALENDAR
VERSION:2.0
PRODID:SchoolNow
CALSCALE:GREGORIAN
BEGIN:VEVENT
UID:02c1d2a8-4bd3-11f0-b416-0a58a9feac02
DTSTAMP:20260425T205012Z
SUMMARY:Parent Teacher Conferences 1 hour early out 1st -5th
URL;VALUE=URI:https://www.tusd.org/schools/arlington/calendar/8320544/paren
 t-teacher-conferences-1-hour-early-out-1st-5th
DTSTART;VALUE=DATE:20260120
DTEND;VALUE=DATE:20260130
END:VEVENT
END:VCALENDAR
