BEGIN:VCALENDAR
VERSION:2.0
PRODID:SchoolNow
CALSCALE:GREGORIAN
BEGIN:VEVENT
UID:026311b4-4bd3-11f0-9f36-0a58a9feac02
DTSTAMP:20260425T205012Z
SUMMARY:Dance
LOCATION:Cafeteria
URL;VALUE=URI:https://www.tusd.org/schools/arlington/calendar/8320542/dance
DTSTART:20260116T020000Z
DTEND:20260116T040000Z
END:VEVENT
END:VCALENDAR
