BEGIN:VCALENDAR
VERSION:2.0
PRODID:SchoolNow
CALSCALE:GREGORIAN
BEGIN:VEVENT
UID:026310d8-4bd3-11f0-949b-0a58a9feac02
DTSTAMP:20260425T205012Z
SUMMARY:Hearing and Vision Screening
URL;VALUE=URI:https://www.tusd.org/schools/arlington/calendar/8320541/heari
 ng-and-vision-screening
DTSTART;VALUE=DATE:20260113
DTEND;VALUE=DATE:20260114
END:VEVENT
END:VCALENDAR
