BEGIN:VCALENDAR
VERSION:2.0
PRODID:SchoolNow
CALSCALE:GREGORIAN
BEGIN:VEVENT
UID:02630ffc-4bd3-11f0-bbff-0a58a9feac02
DTSTAMP:20260425T205012Z
SUMMARY:PTA Board Meeting
URL;VALUE=URI:https://www.tusd.org/schools/arlington/calendar/8320540/pta-b
 oard-meeting
DTSTART:20260108T233000Z
DTEND:20260109T010000Z
END:VEVENT
END:VCALENDAR
