BEGIN:VCALENDAR
VERSION:2.0
PRODID:SchoolNow
CALSCALE:GREGORIAN
BEGIN:VEVENT
UID:02630f16-4bd3-11f0-8a2a-0a58a9feac02
DTSTAMP:20260425T205012Z
SUMMARY:No School - Winter Break
URL;VALUE=URI:https://www.tusd.org/schools/arlington/calendar/8320539/no-sc
 hool-winter-break
DTSTART;VALUE=DATE:20251222
DTEND;VALUE=DATE:20260103
END:VEVENT
END:VCALENDAR
