BEGIN:VCALENDAR
VERSION:2.0
PRODID:SchoolNow
CALSCALE:GREGORIAN
BEGIN:VEVENT
UID:6913ceca-672d-11ef-b08b-0ef3309afd71
DTSTAMP:20260425T144513Z
SUMMARY:Principal's Day
URL;VALUE=URI:https://www.tusd.org/schools/arlington/calendar/6491507/princ
 ipals-day
DTSTART;VALUE=DATE:20260501
DTEND;VALUE=DATE:20260502
END:VEVENT
END:VCALENDAR
