BEGIN:VCALENDAR
VERSION:2.0
PRODID:SchoolNow
CALSCALE:GREGORIAN
BEGIN:VEVENT
UID:830076a6-af90-11f0-8285-0a58a9feac02
DTSTAMP:20251216T154648Z
SUMMARY:Fall Picture Retake
URL;VALUE=URI:https://www.tusd.org/schools/anza/calendar/8743822/fall-pictu
 re-retake
DTSTART;VALUE=DATE:20251029
DTEND;VALUE=DATE:20251030
END:VEVENT
END:VCALENDAR
