BEGIN:VCALENDAR
VERSION:2.0
PRODID:SchoolNow
CALSCALE:GREGORIAN
BEGIN:VEVENT
UID:c4987dec-a087-11f0-808a-0a58a9feac02
DTSTAMP:20251216T154648Z
SUMMARY:Anza Great Shake Out Drill
URL;VALUE=URI:https://www.tusd.org/schools/anza/calendar/8692203/anza-great
 -shake-out-drill
DTSTART:20251016T171600Z
DTEND:20251016T181600Z
END:VEVENT
END:VCALENDAR
