BEGIN:VCALENDAR
VERSION:2.0
PRODID:SchoolNow
CALSCALE:GREGORIAN
BEGIN:VEVENT
UID:aaf1b918-94fb-11f0-9d26-0affc47f5859
DTSTAMP:20251216T154648Z
SUMMARY:4th Grade CA Walk Thru
URL;VALUE=URI:https://www.tusd.org/schools/anza/calendar/8640084/4th-grade-
 ca-walk-thru
DTSTART;VALUE=DATE:20260226
DTEND;VALUE=DATE:20260227
END:VEVENT
END:VCALENDAR
