BEGIN:VCALENDAR
VERSION:2.0
PRODID:SchoolNow
CALSCALE:GREGORIAN
BEGIN:VEVENT
UID:0600dc42-884c-11f0-a64e-0a58a9feac02
DTSTAMP:20251216T154648Z
SUMMARY:DELMAC Annual Parent Conference
LOCATION:Levy Adult Center\, 3420 W 229th Pl\, Torrance\, CA 90505\, USA
URL;VALUE=URI:https://www.tusd.org/schools/anza/calendar/8572653/delmac-ann
 ual-parent-conference
DTSTART:20251212T170000Z
DTEND:20251212T200000Z
END:VEVENT
END:VCALENDAR
