BEGIN:VCALENDAR
VERSION:2.0
PRODID:SchoolNow
CALSCALE:GREGORIAN
BEGIN:VEVENT
UID:06009fac-884c-11f0-8059-0a58a9feac02
DTSTAMP:20251216T154648Z
SUMMARY:DELMAC Meeting #1
LOCATION:Levy Adult Center\, 3420 W 229th Pl\, Torrance\, CA 90505\, USA
URL;VALUE=URI:https://www.tusd.org/schools/anza/calendar/8572652/delmac-mee
 ting-1
DTSTART:20251017T170000Z
DTEND:20251017T190000Z
END:VEVENT
END:VCALENDAR
