BEGIN:VCALENDAR
VERSION:2.0
PRODID:SchoolNow
CALSCALE:GREGORIAN
BEGIN:VEVENT
UID:d3a9e170-8847-11f0-9838-0affeb820fbd
DTSTAMP:20251216T154648Z
SUMMARY:West Area Elementary ELMAC meeting @ Towers
URL;VALUE=URI:https://www.tusd.org/schools/anza/calendar/8572614/west-area-
 elementary-elmac-meeting-towers
DTSTART:20260116T180000Z
DTEND:20260116T190000Z
END:VEVENT
END:VCALENDAR
