BEGIN:VCALENDAR
VERSION:2.0
PRODID:SchoolNow
CALSCALE:GREGORIAN
BEGIN:VEVENT
UID:d3a9dc70-8847-11f0-9464-0affeb820fbd
DTSTAMP:20251216T154648Z
SUMMARY:ELMAC meeting @ Anza (zoom)
URL;VALUE=URI:https://www.tusd.org/schools/anza/calendar/8572612/elmac-meet
 ing-anza-zoom
DTSTART:20251010T170000Z
DTEND:20251010T180000Z
END:VEVENT
END:VCALENDAR
