BEGIN:VCALENDAR
VERSION:2.0
PRODID:SchoolNow
CALSCALE:GREGORIAN
BEGIN:VEVENT
UID:6c3e7118-7faa-11f0-8ed0-0affceaa1a45
DTSTAMP:20251216T154648Z
SUMMARY:Spanish Mama Maestra LLC
URL;VALUE=URI:https://www.tusd.org/schools/anza/calendar/8534358/spanish-ma
 ma-maestra-llc
DTSTART:20250822T220000Z
DTEND:20250822T230000Z
END:VEVENT
END:VCALENDAR
