BEGIN:VCALENDAR
VERSION:2.0
PRODID:SchoolNow
CALSCALE:GREGORIAN
BEGIN:VEVENT
UID:6c3e1f88-7faa-11f0-8121-0affceaa1a45
DTSTAMP:20251216T154648Z
SUMMARY:Flag Assembly
URL;VALUE=URI:https://www.tusd.org/schools/anza/calendar/8534276/flag-assem
 bly
DTSTART:20260123T165000Z
DTEND:20260123T171500Z
END:VEVENT
END:VCALENDAR
