BEGIN:VCALENDAR
VERSION:2.0
PRODID:SchoolNow
CALSCALE:GREGORIAN
BEGIN:VEVENT
UID:6c3e1c22-7faa-11f0-90d2-0affceaa1a45
DTSTAMP:20251216T154648Z
SUMMARY:Flag Assembly
URL;VALUE=URI:https://www.tusd.org/schools/anza/calendar/8534272/flag-assem
 bly
DTSTART:20251226T165000Z
DTEND:20251226T171500Z
END:VEVENT
END:VCALENDAR
