BEGIN:VCALENDAR
VERSION:2.0
PRODID:SchoolNow
CALSCALE:GREGORIAN
BEGIN:VEVENT
UID:6c3e1830-7faa-11f0-bcf8-0affceaa1a45
DTSTAMP:20251216T154648Z
SUMMARY:Flag Assembly
URL;VALUE=URI:https://www.tusd.org/schools/anza/calendar/8534268/flag-assem
 bly
DTSTART:20251128T165000Z
DTEND:20251128T171500Z
END:VEVENT
END:VCALENDAR
