BEGIN:VCALENDAR
VERSION:2.0
PRODID:SchoolNow
CALSCALE:GREGORIAN
BEGIN:VEVENT
UID:6c3e1740-7faa-11f0-bae7-0affceaa1a45
DTSTAMP:20251216T154648Z
SUMMARY:Flag Assembly
URL;VALUE=URI:https://www.tusd.org/schools/anza/calendar/8534267/flag-assem
 bly
DTSTART:20251121T165000Z
DTEND:20251121T171500Z
END:VEVENT
END:VCALENDAR
