BEGIN:VCALENDAR
VERSION:2.0
PRODID:SchoolNow
CALSCALE:GREGORIAN
BEGIN:VEVENT
UID:6c3e10d8-7faa-11f0-89b7-0affceaa1a45
DTSTAMP:20251216T154648Z
SUMMARY:Flag Assembly
URL;VALUE=URI:https://www.tusd.org/schools/anza/calendar/8534264/flag-assem
 bly
DTSTART:20251031T155000Z
DTEND:20251031T161500Z
END:VEVENT
END:VCALENDAR
