BEGIN:VCALENDAR
VERSION:2.0
PRODID:SchoolNow
CALSCALE:GREGORIAN
BEGIN:VEVENT
UID:6c287a16-7faa-11f0-9798-0affceaa1a45
DTSTAMP:20251216T154648Z
SUMMARY:Flag Assembly
URL;VALUE=URI:https://www.tusd.org/schools/anza/calendar/8534257/flag-assem
 bly
DTSTART:20250912T155000Z
DTEND:20250912T161500Z
END:VEVENT
END:VCALENDAR
