BEGIN:VCALENDAR
VERSION:2.0
PRODID:SchoolNow
CALSCALE:GREGORIAN
BEGIN:VEVENT
UID:6c2878e0-7faa-11f0-b70e-0affceaa1a45
DTSTAMP:20251216T154648Z
SUMMARY:Flag Assembly
URL;VALUE=URI:https://www.tusd.org/schools/anza/calendar/8534256/flag-assem
 bly
DTSTART:20250905T155000Z
DTEND:20250905T161500Z
END:VEVENT
END:VCALENDAR
