BEGIN:VCALENDAR
VERSION:2.0
PRODID:SchoolNow
CALSCALE:GREGORIAN
BEGIN:VEVENT
UID:6c2875ac-7faa-11f0-ba02-0affceaa1a45
DTSTAMP:20251216T154648Z
SUMMARY:Flag Assembly
URL;VALUE=URI:https://www.tusd.org/schools/anza/calendar/8534255/flag-assem
 bly
DTSTART:20250829T155000Z
DTEND:20250829T161500Z
END:VEVENT
END:VCALENDAR
