BEGIN:VCALENDAR
VERSION:2.0
PRODID:SchoolNow
CALSCALE:GREGORIAN
BEGIN:VEVENT
UID:18cdb45e-4c96-11f0-885b-0e14644fe91b
DTSTAMP:20251216T154648Z
SUMMARY:Staff Appreciation Week 5/4-5/8
URL;VALUE=URI:https://www.tusd.org/schools/anza/calendar/8325894/staff-appr
 eciation-week-5-4-5-8
DTSTART;VALUE=DATE:20260504
DTEND;VALUE=DATE:20260509
END:VEVENT
END:VCALENDAR
