BEGIN:VCALENDAR
VERSION:2.0
PRODID:SchoolNow
CALSCALE:GREGORIAN
BEGIN:VEVENT
UID:18cdb382-4c96-11f0-a8cd-0e14644fe91b
DTSTAMP:20251216T154648Z
SUMMARY:May the 4th be with you-Spirit Day
URL;VALUE=URI:https://www.tusd.org/schools/anza/calendar/8325893/may-the-4t
 h-be-with-you-spirit-day
DTSTART;VALUE=DATE:20260504
DTEND;VALUE=DATE:20260505
END:VEVENT
END:VCALENDAR
