BEGIN:VCALENDAR
VERSION:2.0
PRODID:SchoolNow
CALSCALE:GREGORIAN
BEGIN:VEVENT
UID:18cdb2a6-4c96-11f0-a5bc-0e14644fe91b
DTSTAMP:20251216T154648Z
SUMMARY:NO SCHOOL-Staff Development Day
URL;VALUE=URI:https://www.tusd.org/schools/anza/calendar/8325892/no-school-
 staff-development-day
DTSTART;VALUE=DATE:20260501
DTEND;VALUE=DATE:20260502
END:VEVENT
END:VCALENDAR
