BEGIN:VCALENDAR
VERSION:2.0
PRODID:SchoolNow
CALSCALE:GREGORIAN
BEGIN:VEVENT
UID:18cd9ed8-4c96-11f0-9d5c-0e14644fe91b
DTSTAMP:20251216T154648Z
SUMMARY:5th Grade Panoramic Picture Day
URL;VALUE=URI:https://www.tusd.org/schools/anza/calendar/8325869/5th-grade-
 panoramic-picture-day
DTSTART;VALUE=DATE:20260121
DTEND;VALUE=DATE:20260122
END:VEVENT
END:VCALENDAR
