BEGIN:VCALENDAR
VERSION:2.0
PRODID:SchoolNow
CALSCALE:GREGORIAN
BEGIN:VEVENT
UID:18cd9d20-4c96-11f0-93fa-0e14644fe91b
DTSTAMP:20251216T154648Z
SUMMARY:Parent Conferences-Minimum Day-TK&K @ 150pm\, 1st-3rd @ 203pm\, 4th
 -5th @ 212pm
URL;VALUE=URI:https://www.tusd.org/schools/anza/calendar/8325867/parent-con
 ferences-minimum-day-tk-k-150pm-1st-3rd-203pm-4th-5th-212pm
DTSTART;VALUE=DATE:20260120
DTEND;VALUE=DATE:20260130
END:VEVENT
END:VCALENDAR
