BEGIN:VCALENDAR
VERSION:2.0
PRODID:SchoolNow
CALSCALE:GREGORIAN
BEGIN:VEVENT
UID:18cd9c3a-4c96-11f0-a47c-0e14644fe91b
DTSTAMP:20251216T154648Z
SUMMARY:Martin Luther King Jr. Day-NO SCHOOL
URL;VALUE=URI:https://www.tusd.org/schools/anza/calendar/8325866/martin-lut
 her-king-jr-day-no-school
DTSTART;VALUE=DATE:20260119
DTEND;VALUE=DATE:20260120
END:VEVENT
END:VCALENDAR
