BEGIN:VCALENDAR
VERSION:2.0
PRODID:SchoolNow
CALSCALE:GREGORIAN
BEGIN:VEVENT
UID:18cd9b5e-4c96-11f0-a18f-0e14644fe91b
DTSTAMP:20251216T154648Z
SUMMARY:Achievement Reports
URL;VALUE=URI:https://www.tusd.org/schools/anza/calendar/8325865/achievemen
 t-reports
DTSTART;VALUE=DATE:20260116
DTEND;VALUE=DATE:20260117
END:VEVENT
END:VCALENDAR
