BEGIN:VCALENDAR
VERSION:2.0
PRODID:SchoolNow
CALSCALE:GREGORIAN
BEGIN:VEVENT
UID:18cd99a6-4c96-11f0-a629-0e14644fe91b
DTSTAMP:20251216T154648Z
SUMMARY:School Resumes from Winter Break
URL;VALUE=URI:https://www.tusd.org/schools/anza/calendar/8325863/school-res
 umes-from-winter-break
DTSTART;VALUE=DATE:20260105
DTEND;VALUE=DATE:20260106
END:VEVENT
END:VCALENDAR
