BEGIN:VCALENDAR
VERSION:2.0
PRODID:SchoolNow
CALSCALE:GREGORIAN
BEGIN:VEVENT
UID:18cd98c0-4c96-11f0-84c8-0e14644fe91b
DTSTAMP:20251216T154648Z
SUMMARY:Winter Break 12/22-01/02
URL;VALUE=URI:https://www.tusd.org/schools/anza/calendar/8325862/winter-bre
 ak-12-22-01-02
DTSTART;VALUE=DATE:20251222
DTEND;VALUE=DATE:20260103
END:VEVENT
END:VCALENDAR
